BEGIN:VCALENDAR
VERSION:2.0
PRODID:-//PYVOBJECT//NONSGML Version 0.9.9//EN
X-WR-TIMEZONE:Africa/Johannesburg
BEGIN:VTIMEZONE
TZID:Africa/Johannesburg
BEGIN:STANDARD
DTSTART:20000101T000000
RRULE:FREQ=YEARLY;BYMONTH=1
TZNAME:SAST
TZOFFSETFROM:+0200
TZOFFSETTO:+0200
END:STANDARD
END:VTIMEZONE
BEGIN:VEVENT
UID:20260419T235150Z - 80398@eos-content
DTSTART;TZID=Africa/Johannesburg:20260419T120000
DTEND;TZID=Africa/Johannesburg:20260419T160000
ATTENDEE:MAILTO:emmahdintshi@renprop.co.za
DESCRIPTION:https://www.renprop.co.za/results/residential/for-sale/sandton/
 morningside/apartment/1201835/44-the-view-5-michelle-street/\n\nfollow poi
 nter boards\n\nEmmah Dintshi (0828068648)
DTSTAMP:20260419T235150Z
LOCATION:44 The View\, 5 Michelle Street\, Morningside\, Sandton
SUMMARY:Renprop. Show Day - RPR166
END:VEVENT
END:VCALENDAR
