BEGIN:VCALENDAR
VERSION:2.0
PRODID:-//PYVOBJECT//NONSGML Version 0.9.9//EN
X-WR-TIMEZONE:Africa/Johannesburg
BEGIN:VTIMEZONE
TZID:Africa/Johannesburg
BEGIN:STANDARD
DTSTART:20000101T000000
RRULE:FREQ=YEARLY;BYMONTH=1
TZNAME:SAST
TZOFFSETFROM:+0200
TZOFFSETTO:+0200
END:STANDARD
END:VTIMEZONE
BEGIN:VEVENT
UID:20260419T235510Z - 52987@eos-content
DTSTART;TZID=Africa/Johannesburg:20260425T130000
DTEND;TZID=Africa/Johannesburg:20260425T160000
ATTENDEE:MAILTO:julia@renprop.co.za
DESCRIPTION:https://www.renprop.co.za/results/residential/for-sale/sandton/
 rivonia/apartment/1201852/115-the-atrium-9-de-la-rey-road/\n\nfollow point
 er boards\n\nJulia Mpofu (0634958334)
DTSTAMP:20260419T235510Z
LOCATION:115 The Atrium\, 9 De La Rey Road\, Rivonia\, Sandton
SUMMARY:Renprop. Show Day - RPR180
END:VEVENT
END:VCALENDAR
