BEGIN:VCALENDAR
VERSION:2.0
PRODID:-//PYVOBJECT//NONSGML Version 0.9.9//EN
X-WR-TIMEZONE:Africa/Johannesburg
BEGIN:VTIMEZONE
TZID:Africa/Johannesburg
BEGIN:STANDARD
DTSTART:20000101T000000
RRULE:FREQ=YEARLY;BYMONTH=1
TZNAME:SAST
TZOFFSETFROM:+0200
TZOFFSETTO:+0200
END:STANDARD
END:VTIMEZONE
BEGIN:VEVENT
UID:20260419T221111Z - 91641@eos-content
DTSTART;TZID=Africa/Johannesburg:20260419T130000
DTEND;TZID=Africa/Johannesburg:20260419T160000
ATTENDEE:MAILTO:stanley@renprop.co.za
DESCRIPTION:https://www.renprop.co.za/results/residential/for-sale/johannes
 burg/rosebank/apartment/1201963/1203-the-tyrwhitt-54-bath-avenue/\n\nfollo
 w pointer boards\n\nStanley Renprop (0828068898)
DTSTAMP:20260419T221111Z
LOCATION:1203 The Tyrwhitt\, 54 Bath Avenue\, Rosebank\, Johannesburg
SUMMARY:Renprop. Show Day - RPR265
END:VEVENT
END:VCALENDAR
