BEGIN:VCALENDAR
VERSION:2.0
PRODID:-//PYVOBJECT//NONSGML Version 0.9.9//EN
X-WR-TIMEZONE:Africa/Johannesburg
BEGIN:VTIMEZONE
TZID:Africa/Johannesburg
BEGIN:STANDARD
DTSTART:20000101T000000
RRULE:FREQ=YEARLY;BYMONTH=1
TZNAME:SAST
TZOFFSETFROM:+0200
TZOFFSETTO:+0200
END:STANDARD
END:VTIMEZONE
BEGIN:VEVENT
UID:20260425T213435Z - 88246@eos-content
DTSTART;TZID=Africa/Johannesburg:20260426T120000
DTEND;TZID=Africa/Johannesburg:20260426T150000
ATTENDEE:MAILTO:craig@renprop.co.za
DESCRIPTION:https://www.renprop.co.za/results/residential/for-sale/sandton/
 paulshof/freestanding/1514285/\n\nfollow pointer boards\n\nCraig Perkins (
 0828973415)
DTSTAMP:20260425T213435Z
LOCATION:Paulshof\, Sandton
SUMMARY:Renprop. Show Day - RPR2668
END:VEVENT
END:VCALENDAR
