BEGIN:VCALENDAR
VERSION:2.0
PRODID:-//PYVOBJECT//NONSGML Version 0.9.9//EN
X-WR-TIMEZONE:Africa/Johannesburg
BEGIN:VTIMEZONE
TZID:Africa/Johannesburg
BEGIN:STANDARD
DTSTART:20000101T000000
RRULE:FREQ=YEARLY;BYMONTH=1
TZNAME:SAST
TZOFFSETFROM:+0200
TZOFFSETTO:+0200
END:STANDARD
END:VTIMEZONE
BEGIN:VEVENT
UID:20260425T151437Z - 76183@eos-content
DTSTART;TZID=Africa/Johannesburg:20260425T130000
DTEND;TZID=Africa/Johannesburg:20260425T150000
ATTENDEE:MAILTO:stanley@renprop.co.za
DESCRIPTION:https://www.renprop.co.za/results/residential/for-sale/sandton/
 morningside/apartment/1730270/12-the-view-3-michelle-street/\n\nfollow poi
 nter boards\n\nStanley Renprop (0828068898)
DTSTAMP:20260425T151437Z
LOCATION:12 The View\, 3 Michelle Street\, Morningside\, Sandton
SUMMARY:Renprop. Show Day - RPR2729
END:VEVENT
END:VCALENDAR
