BEGIN:VCALENDAR
VERSION:2.0
PRODID:-//PYVOBJECT//NONSGML Version 0.9.9//EN
X-WR-TIMEZONE:Africa/Johannesburg
BEGIN:VTIMEZONE
TZID:Africa/Johannesburg
BEGIN:STANDARD
DTSTART:20000101T000000
RRULE:FREQ=YEARLY;BYMONTH=1
TZNAME:SAST
TZOFFSETFROM:+0200
TZOFFSETTO:+0200
END:STANDARD
END:VTIMEZONE
BEGIN:VEVENT
UID:20260419T173750Z - 16699@eos-content
DTSTART;TZID=Africa/Johannesburg:20260419T130000
DTEND;TZID=Africa/Johannesburg:20260419T160000
ATTENDEE:MAILTO:bahia@renprop.co.za
DESCRIPTION:https://www.renprop.co.za/results/residential/for-sale/johannes
 burg/rosebank/apartment/2257632/310-the-median-23-cradock-avenue/\n\nfollo
 w pointer boards\n\nBahia Dangor (0829002212)
DTSTAMP:20260419T173750Z
LOCATION:310 The Median\, 23 Cradock Avenue\, Rosebank\, Johannesburg
SUMMARY:Renprop. Show Day - RPR2867
END:VEVENT
END:VCALENDAR
